BEGIN:VCALENDAR
PRODID:-//AT Content Types//AT Event//EN
VERSION:2.0
METHOD:PUBLISH
BEGIN:VEVENT
DTSTAMP:20260425T185302Z
CREATED:20180615T221039Z
UID:ATEvent-bad0e59cc3aa4035ba30218a586b9bab
LAST-MODIFIED:20181007T175741Z
SUMMARY:Summer Tournament Week 8
DTSTART:20180620T173000Z
DTEND:20180620T204500Z
DESCRIPTION:The UCU Civil Service Summer Tournament is open to all che
 ss players and provides regular competitive chess during the summer mo
 nths when many chess clubs are closed.
LOCATION:NICS Maynard Sinclair Pavilion\, Stormont
CONTACT:Mark Newman\, 07872544868\, mark.chris.newman@googlemail.com
CLASS:PUBLIC
END:VEVENT
END:VCALENDAR
