BEGIN:VCALENDAR
PRODID:-//AT Content Types//AT Event//EN
VERSION:2.0
METHOD:PUBLISH
BEGIN:VEVENT
DTSTAMP:20260422T184901Z
CREATED:20170915T210543Z
UID:ATEvent-5fb7bdde1edc4f52bbb8171216b11c14
LAST-MODIFIED:20181007T175729Z
SUMMARY:Omagh Rapidplay 2017
DTSTART:20171125T093000Z
DTEND:20171125T170000Z
DESCRIPTION:This years Omagh rapidplay will take place on Saturday 25t
 h November at Christian Brothers Grammar School.
LOCATION:Christian Brothers Grammar School\, Omagh
CONTACT:Ross Harris\, 07796172227\, rossharris168@btinternet.com
CLASS:PUBLIC
END:VEVENT
END:VCALENDAR
