BEGIN:VCALENDAR
PRODID:-//AT Content Types//AT Event//EN
VERSION:2.0
METHOD:PUBLISH
BEGIN:VEVENT
DTSTAMP:20260422T204024Z
CREATED:20180618T150758Z
UID:ATEvent-dce64392c6bc4824b971f3f321233a82
LAST-MODIFIED:20181007T175729Z
SUMMARY:Irish Championships 2018 - Major and Challenger
DTSTART:20180803T173000Z
DTEND:20180805T173000Z
DESCRIPTION:The Major and Challenger sections of the Irish Championshi
 p.
LOCATION:The Talbot Hotel\, Dublin
CONTACT:John McMorrow\, chairperson@icu.ie
CLASS:PUBLIC
END:VEVENT
END:VCALENDAR
