BEGIN:VCALENDAR
PRODID:-//AT Content Types//AT Event//EN
VERSION:2.0
METHOD:PUBLISH
BEGIN:VEVENT
DTSTAMP:20260420T130543Z
CREATED:20170911T202553Z
UID:ATEvent-c602878872b14ba7a22ba47fe3e38f38
LAST-MODIFIED:20181007T175730Z
SUMMARY:The Eglantine Summer Tournament: Week 21 Prize-Giving and mini Tournament
DTSTART:20170927T173000Z
DTEND:20170927T204500Z
DESCRIPTION:The UCU Eglantine Summer Tournament is open to all chess p
 layers and provides regular competitive chess during the summer months
  when many chess clubs are closed. The last weds of the Summer tournam
 ent consists of the Prize-Giving and an active tournament.
CONTACT:Mark Newman\, 07872544868\, mark.chris.newman@googlemail.com
CLASS:PUBLIC
END:VEVENT
END:VCALENDAR
