BEGIN:VCALENDAR
PRODID:-//AT Content Types//AT Event//EN
VERSION:2.0
METHOD:PUBLISH
BEGIN:VEVENT
DTSTAMP:20260420T111614Z
CREATED:20170621T230053Z
UID:ATEvent-abd4ca8f6e474485935708ad8d8966bf
LAST-MODIFIED:20181007T175730Z
SUMMARY:The Eglantine 2017 Summer Tournament Week9
DTSTART:20170628T173000Z
DTEND:20170628T204500Z
DESCRIPTION:The UCU Eglantine Summer Tournament is open to all chess p
 layers and provides regular competitive chess during the summer months
  when many chess clubs are closed
LOCATION:Belfast Bankers Club\, 31 Malone Road\, Belfast BT9 6RU
CONTACT:Neil Green\, 07977216868\, neildonard@yahoo.co.uk
CLASS:PUBLIC
END:VEVENT
END:VCALENDAR
