BEGIN:VCALENDAR
PRODID:-//AT Content Types//AT Event//EN
VERSION:1.0
BEGIN:VEVENT
DTSTART:20170524T173000Z
DTEND:20170524T204500Z
DCREATED:20170521T174514Z
UID:ATEvent-8cc426eb0ff14d3fa005d3c87b2603f5
SEQUENCE:0
LAST-MODIFIED:20181007T175730Z
SUMMARY:The Eglantine 2017 Summer Tournament Week4
DESCRIPTION:The UCU Eglantine Summer Tournament is open to all chess p
 layers and provides regular competitive chess during the summer months
  when many chess clubs are closed
LOCATION:Belfast Bankers Club\, 31 Malone Road\, Belfast BT9 6RU
PRIORITY:3
TRANSP:0
END:VEVENT
END:VCALENDAR
