BEGIN:VCALENDAR
PRODID:-//AT Content Types//AT Event//EN
VERSION:2.0
METHOD:PUBLISH
BEGIN:VEVENT
DTSTAMP:20260423T175539Z
CREATED:20170731T121715Z
UID:ATEvent-d2102993a24741278cc8f8451eabe597
LAST-MODIFIED:20181007T175730Z
SUMMARY:The Eglantine 2017 Summer Tournament Week13
DTSTART:20170802T173000Z
DTEND:20170802T204500Z
DESCRIPTION:The UCU Eglantine Summer Tournament is open to all chess p
 layers and provides regular competitive chess during the summer months
  when many chess clubs are closed.
LOCATION:Belfast Bankers Club\, 31 Malone Road\, Belfast BT9 6RU
CONTACT:Mark Newman\, 07872544868\, mark.chris.newman@googlemail.com
CLASS:PUBLIC
END:VEVENT
END:VCALENDAR
