BEGIN:VCALENDAR
PRODID:-//AT Content Types//AT Event//EN
VERSION:1.0
BEGIN:VEVENT
DTSTART:20170719T173000Z
DTEND:20170719T204500Z
DCREATED:20170706T181426Z
UID:ATEvent-0f10a5cd7814442cb982772655d3630f
SEQUENCE:0
LAST-MODIFIED:20181007T175730Z
SUMMARY:The Eglantine 2017 Summer Tournament Week11
DESCRIPTION:The UCU Eglantine Summer Tournament is open to all chess p
 layers and provides regular competitive chess during the summer months
  when many chess clubs are closed.
LOCATION:Belfast Bankers Club\, 31 Malone Road\, Belfast BT9 6RU
PRIORITY:3
TRANSP:0
END:VEVENT
END:VCALENDAR
