BEGIN:VCALENDAR
PRODID:-//AT Content Types//AT Event//EN
VERSION:1.0
BEGIN:VEVENT
DTSTART:20170705T173000Z
DTEND:20170705T204500Z
DCREATED:20170630T204245Z
UID:ATEvent-556ad97ae0f0458f9d271d4efeab5081
SEQUENCE:0
LAST-MODIFIED:20181007T175730Z
SUMMARY:The Eglantine 2017 Summer Tournament Week10
DESCRIPTION:The UCU Eglantine Summer Tournament is open to all chess p
 layers and provides regular competitive chess during the summer months
  when many chess clubs are closed.\n** Please Note no chess on Weds Ju
 ly 12th **
LOCATION:Belfast Bankers Club\, 31 Malone Road\, Belfast BT9 6RU
PRIORITY:3
TRANSP:0
END:VEVENT
END:VCALENDAR
