BEGIN:VCALENDAR
PRODID:-//AT Content Types//AT Event//EN
VERSION:2.0
METHOD:PUBLISH
BEGIN:VEVENT
DTSTAMP:20260421T092948Z
CREATED:20180112T220324Z
UID:ATEvent-fb9b5940ffd046e5912d721d17a52275
LAST-MODIFIED:20181007T175734Z
SUMMARY:Childrens Chess Saturday February 10th 2018
DTSTART:20180210T113000Z
DTEND:20180210T160000Z
DESCRIPTION:The series of Childrens Chess events continues. An afterno
 on of brilliant chess. Have fun playing in a chess tournament \, with 
 a chess puzzle competition and informal coaching all young chess playe
 rs welcome - register on day.
LOCATION:Methodist College\, Belfast
CONTACT:Mark Newman\, 07872544868\, mark.chris.newman@googlemail.com
CLASS:PUBLIC
END:VEVENT
END:VCALENDAR
