BEGIN:VCALENDAR
PRODID:-//AT Content Types//AT Event//EN
VERSION:1.0
BEGIN:VEVENT
DTSTART:20180512T074500Z
DTEND:20180512T150000Z
DCREATED:20180411T193242Z
UID:ATEvent-4d247f291625466ebf713c731713f0ea
SEQUENCE:0
LAST-MODIFIED:20181007T175736Z
SUMMARY:Delancey UK Chess Challenge Northern Ireland Megafinal
DESCRIPTION:Saturday May 12th - Northern Ireland Delancey UK Chess Cha
 llenge Megafinal
LOCATION:Methodist College\, Belfast
PRIORITY:3
TRANSP:0
END:VEVENT
END:VCALENDAR
