BEGIN:VCALENDAR
PRODID:-//AT Content Types//AT Event//EN
VERSION:2.0
METHOD:PUBLISH
BEGIN:VEVENT
DTSTAMP:20260419T175646Z
CREATED:20160902T152841Z
UID:ATEvent-8acd9ca65d2143268d044666af7ff6e7
LAST-MODIFIED:20160903T112130Z
SUMMARY:Ulster Masters 2016
DTSTART:20161014T173000Z
DTEND:20161016T160000Z
DESCRIPTION:The Ulster Masters will take place over 3 days\, 14th - 16
 th October at Queens University\, Belfast.
LOCATION:Queens University\, Student Union Snack Bar
CONTACT:Richard Gould\, 07770763266\, richardgould8@hotmail.co.uk
CLASS:PUBLIC
END:VEVENT
END:VCALENDAR
