BEGIN:VCALENDAR
PRODID:-//AT Content Types//AT Event//EN
VERSION:2.0
METHOD:PUBLISH
BEGIN:VEVENT
DTSTAMP:20260420T020907Z
CREATED:20170102T110221Z
UID:ATEvent-fe329a13c4ad4f9e81e33945825539a0
LAST-MODIFIED:20170102T154315Z
SUMMARY:UCU Rapidplay 2017
DTSTART:20170319T090500Z
DTEND:20170319T160000Z
DESCRIPTION:The 2017 UCU Rapidplay (one day event) will take place in 
 the Ulster Museums intimate Belfast room on 19th March.
LOCATION:Belfast room\, Ulster Museum\, Botanic Gardens\, Belfast BT9 5AB
CONTACT:Richard Gould\, 07770763266\, richardgould8@hotmail.co.uk
CLASS:PUBLIC
END:VEVENT
END:VCALENDAR
