BEGIN:VCALENDAR
PRODID:-//AT Content Types//AT Event//EN
VERSION:1.0
BEGIN:VEVENT
DTSTART:20160827T073000Z
DTEND:20160829T160000Z
DCREATED:20160616T195208Z
UID:ATEvent-d9b3167ac2a24fcdb88f52573946d16f
SEQUENCE:0
LAST-MODIFIED:20160810T172834Z
SUMMARY:The Ulster Chess Championships 2016: Europa Hotel\, Belfast
DESCRIPTION:The Ulster Chess Championships 2016\, 3 day event August b
 ank holiday
LOCATION:Europa Hotel\, Belfast
PRIORITY:3
TRANSP:0
END:VEVENT
END:VCALENDAR
