BEGIN:VCALENDAR
PRODID:-//AT Content Types//AT Event//EN
VERSION:2.0
METHOD:PUBLISH
BEGIN:VEVENT
DTSTAMP:20260420T092642Z
CREATED:20161113T164932Z
UID:ATEvent-a130da792fb244769b23929fd7b43fda
LAST-MODIFIED:20161117T213850Z
SUMMARY:The 6th Ulster Blitz Championships 2016
DTSTART:20161227T100000Z
DTEND:20161227T180000Z
DESCRIPTION:The 6th Ulster Blitz Championships 2016 at Ballynafeigh Ch
 ess Club Tuesday 27th December
LOCATION:Ballynafeigh Chess Club\, Ballynafeigh Community Centre\, 283 Ormeau Road\, Belfast\, BT7 3GG
CONTACT:Richard Gould\, 07770763266\, richardgould8@hotmail.co.uk
CLASS:PUBLIC
END:VEVENT
END:VCALENDAR
