BEGIN:VCALENDAR
PRODID:-//AT Content Types//AT Event//EN
VERSION:2.0
METHOD:PUBLISH
BEGIN:VEVENT
DTSTAMP:20260419T124207Z
CREATED:20160901T200424Z
UID:ATEvent-eefa5aac31b74f089bc86fcb374e0065
LAST-MODIFIED:20160901T200449Z
SUMMARY:The Eglantine Summer Tournament Week18. 3 weeks and then Prize evening.
DTSTART:20160907T173000Z
DTEND:20160907T204500Z
DESCRIPTION:The UCU Eglantine Summer Tournament is open to all chess p
 layers and provides regular competitive chess during the summer months
  when many chess clubs are closed. We are now into the last 3 weeks of
  the tournament followed by fun active tournament and award ceremony o
 n last weds of September.
LOCATION:Belfast Bankers Club\, 31 Malone Road\, Belfast BT9 6RU
CONTACT:Mark Newman\, 07872544868\, mark.chris.newman@googlemail.com
CLASS:PUBLIC
END:VEVENT
END:VCALENDAR
