BEGIN:VCALENDAR
PRODID:-//AT Content Types//AT Event//EN
VERSION:2.0
METHOD:PUBLISH
BEGIN:VEVENT
DTSTAMP:20260420T142346Z
CREATED:20161109T190144Z
UID:ATEvent-4e3c27706a6e4bfda7861d40d868925d
LAST-MODIFIED:20161111T012022Z
SUMMARY:QUB Blitz Tournament
DTSTART:20161121T180000Z
DTEND:20161121T213000Z
DESCRIPTION:Six rounds of blitz chess in the QUB Students' Union on No
 vember 21st.
LOCATION:Bar Sub\, QUB Students' Union\, University Road\, Belfast
CONTACT:Jasper Ramsey\, 07821163019\, jramsey07@qub.ac.uk
CLASS:PUBLIC
END:VEVENT
END:VCALENDAR
