BEGIN:VCALENDAR
PRODID:-//AT Content Types//AT Event//EN
VERSION:1.0
BEGIN:VEVENT
DTSTART:20161203T083000Z
DTEND:20161203T160000Z
DCREATED:20161017T194403Z
UID:ATEvent-835a28ed33fd41f9b513dffc287ee1c0
SEQUENCE:0
LAST-MODIFIED:20161017T200608Z
SUMMARY:Omagh rapidplay 2017
DESCRIPTION:This years Omagh rapidplay will take place on Saturday Dec
 ember 3rd at Christian Brothers Grammar School.
LOCATION:Christian Brothers Grammar School\, Omagh
PRIORITY:3
TRANSP:0
END:VEVENT
END:VCALENDAR
