BEGIN:VCALENDAR
PRODID:-//AT Content Types//AT Event//EN
VERSION:2.0
METHOD:PUBLISH
BEGIN:VEVENT
DTSTAMP:20260419T224324Z
CREATED:20161026T220209Z
UID:ATEvent-94dc0b308d82411caeb89d1f5d07b488
LAST-MODIFIED:20161027T201518Z
SUMMARY:Ulster Schools Individual Chess Championships
DTSTART:20161210T090000Z
DTEND:20161210T160000Z
DESCRIPTION:Young Chess players compete to become the Ulster Schools C
 hess Champion.
LOCATION:Methodist College
CONTACT:Mark Newman\, 07872544868\, mark.chris.newman@googlemail.com
CLASS:PUBLIC
END:VEVENT
END:VCALENDAR
