BEGIN:VCALENDAR
PRODID:-//AT Content Types//AT Event//EN
VERSION:2.0
METHOD:PUBLISH
BEGIN:VEVENT
DTSTAMP:20260419T175722Z
CREATED:20160904T143331Z
UID:ATEvent-2655d806074c40c4aab1aa5560996989
LAST-MODIFIED:20160904T180209Z
SUMMARY:Bangor Blitz
DTSTART:20160908T174500Z
DTEND:20160908T210000Z
DESCRIPTION:Blitz Tournament organised by Bangor Chess Club
LOCATION:Groomsport Hall
CONTACT:Michael Sheerin\, 07449335530
CLASS:PUBLIC
END:VEVENT
END:VCALENDAR
