BEGIN:VCALENDAR
PRODID:-//AT Content Types//AT Event//EN
VERSION:2.0
METHOD:PUBLISH
BEGIN:VEVENT
DTSTAMP:20260421T105409Z
CREATED:20160625T114116Z
UID:ATEvent-0ca6b100df154854aaa69638e87b725e
LAST-MODIFIED:20160625T114457Z
SUMMARY:Irish Chess Championships 2016
DTSTART:20160701T173000Z
DTEND:20160710T163000Z
DESCRIPTION:Irish chess's premier event is taking place soon at Univer
 sity College Dublin.
LOCATION:University College Dublin
CONTACT:Gerry Graham\, gerrygraham@eircom.net
URL:http://www.icu.ie/events/797
CLASS:PUBLIC
END:VEVENT
END:VCALENDAR
