BEGIN:VCALENDAR
PRODID:-//AT Content Types//AT Event//EN
VERSION:2.0
METHOD:PUBLISH
BEGIN:VEVENT
DTSTAMP:20260420T135725Z
CREATED:20150628T094655Z
UID:ATEvent-cd9398cf875f422aa7fdada0ec8cec0e
LAST-MODIFIED:20150628T094818Z
SUMMARY:The Eglantine Summer Tournament: Week 9
DTSTART:20150701T173000Z
DTEND:20150701T210000Z
DESCRIPTION:The UCU Eglantine Summer Tournament is open to all chess p
 layers and provides regular competitive chess during the summer months
  when many chess clubs are closed
LOCATION:Belfast Bankers Club\, 31 Malone Road\, Belfast BT9 6RU
CONTACT:Mark Newman\, 07872544868\, mark.chris.newman@googlemail.com
CLASS:PUBLIC
END:VEVENT
END:VCALENDAR
