BEGIN:VCALENDAR
PRODID:-//AT Content Types//AT Event//EN
VERSION:1.0
BEGIN:VEVENT
DTSTART:20150916T173000Z
DTEND:20150916T210000Z
DCREATED:20150908T220245Z
UID:ATEvent-bcf217f5a14e4462802a102c3f05872f
SEQUENCE:0
LAST-MODIFIED:20150908T220331Z
SUMMARY:The Eglantine Summer Tournament: Week 20
DESCRIPTION:The UCU Eglantine Summer Tournament is open to all chess p
 layers and provides regular competitive chess during the summer months
  when many chess clubs are closed
LOCATION:Belfast Bankers Club\, 31 Malone Road\, Belfast BT9 6RU
PRIORITY:3
TRANSP:0
END:VEVENT
END:VCALENDAR
