BEGIN:VCALENDAR
PRODID:-//AT Content Types//AT Event//EN
VERSION:2.0
METHOD:PUBLISH
BEGIN:VEVENT
DTSTAMP:20260420T124015Z
CREATED:20150830T102417Z
UID:ATEvent-b44209b0d30240dd915c6ac9834a85a0
LAST-MODIFIED:20150830T102516Z
SUMMARY:The Eglantine Summer Tournament: Week 18
DTSTART:20150902T173000Z
DTEND:20150902T210000Z
DESCRIPTION:The UCU Eglantine Summer Tournament is open to all chess p
 layers and provides regular competitive chess during the summer months
  when many chess clubs are closed
LOCATION:Belfast Bankers Club\, 31 Malone Road\, Belfast BT9 6RU
CONTACT:Mark Newman\, 07872544868\, mark.chris.newman@googlemail.com
CLASS:PUBLIC
END:VEVENT
END:VCALENDAR
