BEGIN:VCALENDAR
PRODID:-//AT Content Types//AT Event//EN
VERSION:2.0
METHOD:PUBLISH
BEGIN:VEVENT
DTSTAMP:20260420T124059Z
CREATED:20150810T120209Z
UID:ATEvent-a978f3adbbf3438886967cd72bff0b0c
LAST-MODIFIED:20150811T214931Z
SUMMARY:The Eglantine Summer Tournament: Week 15
DTSTART:20150812T173000Z
DTEND:20150812T210000Z
DESCRIPTION:The UCU Eglantine Summer Tournament is open to all chess p
 layers and provides regular competitive chess during the summer months
  when many chess clubs are closed
LOCATION:Belfast Bankers Club\, 31 Malone Road\, Belfast BT9 6RU
CONTACT:Mark Newman\, 07872544868\, mark.chris.newman@googlemail.com
CLASS:PUBLIC
END:VEVENT
END:VCALENDAR
