BEGIN:VCALENDAR
PRODID:-//AT Content Types//AT Event//EN
VERSION:2.0
METHOD:PUBLISH
BEGIN:VEVENT
DTSTAMP:20260421T050044Z
CREATED:20150901T195149Z
UID:ATEvent-e12882b252b849ab8f0f19f5457a8f13
LAST-MODIFIED:20150901T195236Z
SUMMARY:Belfast Culture Night. Cafe Chess Playing at Caffe Nero\, 19 Lombard St.
DTSTART:20150918T140000Z
DTEND:20150918T200000Z
DESCRIPTION:Enjoy meeting potential new chess players. Play chess and 
 enjoy the cafe experience. Share your enthusiasm for the game. At Caff
 e Nero\, 19 Lombard St.
LOCATION:Caffe Nero\, 19 Lombard St
CONTACT:Mark Newman\, 07872544868\, mark.chris.newman@googlemail.com
CLASS:PUBLIC
END:VEVENT
END:VCALENDAR
