BEGIN:VCALENDAR
PRODID:-//AT Content Types//AT Event//EN
VERSION:1.0
BEGIN:VEVENT
DTSTART:20151205T090000Z
DTEND:20151205T160000Z
DCREATED:20150830T125748Z
UID:ATEvent-0288d458f5dd4f1bbe3b44e19fc20db0
SEQUENCE:0
LAST-MODIFIED:20151115T191935Z
SUMMARY:Ulster Schools Individual Chess Championships
DESCRIPTION:Young Chess players compete to become the Ulster Schools C
 hess Champion.
LOCATION:Methodist College
PRIORITY:3
TRANSP:0
END:VEVENT
END:VCALENDAR
