BEGIN:VCALENDAR
PRODID:-//AT Content Types//AT Event//EN
VERSION:2.0
METHOD:PUBLISH
BEGIN:VEVENT
DTSTAMP:20260423T081441Z
CREATED:20150830T103751Z
UID:ATEvent-f629614d8ad84ae59e571be93d6c2d2e
LAST-MODIFIED:20150901T183611Z
SUMMARY:LJCC - Belfast Qualifier 2015: 3rd October
DTSTART:20151003T073000Z
DTEND:20151003T150000Z
DESCRIPTION:An opportunity for Primary Students to Qualify for the Lon
 don Junior Chess Championships - one of the most prestigous Junior che
 ss events. The qualifier is an all day 6 round Childrens Tournament.
LOCATION:Methodist College
CLASS:PUBLIC
END:VEVENT
END:VCALENDAR
