BEGIN:VCALENDAR
PRODID:-//AT Content Types//AT Event//EN
VERSION:2.0
METHOD:PUBLISH
BEGIN:VEVENT
DTSTAMP:20260425T212110Z
CREATED:20141125T211639Z
UID:ATEvent-01c1a82f27cd40ca9396a00e7ac2edc7
LAST-MODIFIED:20141126T194526Z
SUMMARY:Williamson Shield 2015
DTSTART:20150103T083000Z
DTEND:20150104T200000Z
DESCRIPTION:The Williamson Shield will this year be held in The Pavill
 ion Sports Facility at Stormont Estate over the weekend of 3rd -4th Ja
 nuary.
LOCATION:The Pavillion\, Stormont Estate
CONTACT:Ross Harris\, 07796172227\, td@ulsterchess.org
CLASS:PUBLIC
END:VEVENT
END:VCALENDAR
