BEGIN:VCALENDAR
PRODID:-//AT Content Types//AT Event//EN
VERSION:1.0
BEGIN:VEVENT
DTSTART:20150705T110000Z
DTEND:20150705T160000Z
DCREATED:20150527T125034Z
UID:ATEvent-1dcbc8908863481cbd68ccc2528f1b6d
SEQUENCE:0
LAST-MODIFIED:20150612T135746Z
SUMMARY:NICS Intense #4
DESCRIPTION:The last of this seasons NICS tournament series ends with 
 a bang: an intense afternoon of 8\, 15 minute rounds. This one will co
 nclude  the Alan Burns Grand-Prix for 2014/15 - the winner will be rew
 arded on the day.
LOCATION:NICS Maynard Sinclair Pavilion\, Stormont
PRIORITY:3
TRANSP:0
END:VEVENT
END:VCALENDAR
