BEGIN:VCALENDAR
PRODID:-//AT Content Types//AT Event//EN
VERSION:2.0
METHOD:PUBLISH
BEGIN:VEVENT
DTSTAMP:20260425T122430Z
CREATED:20150531T124758Z
UID:ATEvent-4f52610d051942fe871151c9c56f76fa
LAST-MODIFIED:20150531T124909Z
SUMMARY:The Eglantine Summer Tournament: Week 5
DTSTART:20150603T173000Z
DTEND:20150603T210000Z
DESCRIPTION:The UCU Eglantine Summer Tournament is open to all chess p
 layers and provides regular competitive chess during the summer months
  when many chess clubs are closed
LOCATION:Belfast Bankers Club\, 31 Malone Road\, Belfast BT9 6RU
CONTACT:Mark Newman\, 07872544868\, mark.chris.newman@googlemail.com
CLASS:PUBLIC
END:VEVENT
END:VCALENDAR
