BEGIN:VCALENDAR
PRODID:-//AT Content Types//AT Event//EN
VERSION:2.0
METHOD:PUBLISH
BEGIN:VEVENT
DTSTAMP:20260423T104718Z
CREATED:20150329T182935Z
UID:ATEvent-000aa9bccb6043a5b0bf0a5efd5ca98b
LAST-MODIFIED:20170919T185206Z
SUMMARY:Comórtas Fichille Cúige Uladh: Irish Speaking Primary Schools Chess Tournament.
DTSTART:20150512T080000Z
DTEND:20150512T114500Z
DESCRIPTION:Comórtas Fichille Cúige Uladh : Comórtas na mBunscoilea
 nna
LOCATION:Bunscoil Phobal Feirste (Antrim). Address 11 Rosgoill Park\, Shaws Road\, Belfast
CONTACT:Úna O Boyle\, 087-7964587\, unaficheall@gmail.com
URL:https://ficheall.wordpress.com/
CLASS:PUBLIC
END:VEVENT
END:VCALENDAR
