BEGIN:VCALENDAR
PRODID:-//AT Content Types//AT Event//EN
VERSION:1.0
BEGIN:VEVENT
DTSTART:20141120T090000Z
DTEND:20141121T160000Z
DCREATED:20141027T211926Z
UID:ATEvent-e0ac5ccecce64dbaa08f272c32117423
SEQUENCE:0
LAST-MODIFIED:20141120T135445Z
SUMMARY:Ulster Senior Schools League : Moved to end January
DESCRIPTION:Moved to end of Jan. The Ulster Senior Schools League. If 
 your school has a chess team heres an opportunity to show your brillia
 nce.
LOCATION:St Malachys College\, Belfast
PRIORITY:3
TRANSP:0
END:VEVENT
END:VCALENDAR
