BEGIN:VCALENDAR
PRODID:-//AT Content Types//AT Event//EN
VERSION:1.0
BEGIN:VEVENT
DTSTART:20150117T113000Z
DTEND:20150117T160000Z
DCREATED:20141220T200222Z
UID:ATEvent-fb2e4c2718594dc6924f9b4969bbb0f6
SEQUENCE:0
LAST-MODIFIED:20141222T113847Z
SUMMARY:Childrens Chess January 17th
DESCRIPTION:The Third Childrens Chess event of 2014/2015 season. Have 
 fun playing in a chess tournament \, with a chess puzzle competition a
 nd informal coaching all young chess players welcome - register on day
 .
LOCATION:Methodist College\, Belfast
PRIORITY:3
TRANSP:0
END:VEVENT
END:VCALENDAR
