BEGIN:VCALENDAR
PRODID:-//AT Content Types//AT Event//EN
VERSION:2.0
METHOD:PUBLISH
BEGIN:VEVENT
DTSTAMP:20260421T030527Z
CREATED:20150120T202738Z
UID:ATEvent-b26849e31d19454c983b3e0f1dd25987
LAST-MODIFIED:20150121T093502Z
SUMMARY:Childrens Chess April 18th
DTSTART:20150418T103000Z
DTEND:20150418T150000Z
DESCRIPTION:The sixth Childrens Chess event of 2014/2015 season. Have 
 fun playing in a chess tournament \, with a chess puzzle competition a
 nd informal coaching all young chess players welcome - register on day
 .
LOCATION:Methodist College\, Belfast
CONTACT:Mark Newman\, 07872544868\, mark.chris.newman@googlemail.com
CLASS:PUBLIC
END:VEVENT
END:VCALENDAR
