BEGIN:VCALENDAR
PRODID:-//AT Content Types//AT Event//EN
VERSION:2.0
METHOD:PUBLISH
BEGIN:VEVENT
DTSTAMP:20260420T002644Z
CREATED:20131028T212151Z
UID:ATEvent-a38ba1daea8e442c85450238355f2923
LAST-MODIFIED:20141025T130048Z
SUMMARY:Autumn Tournament week 4
DTSTART:20141110T190000Z
DTEND:20141110T223000Z
DESCRIPTION:Week 4 of the flexible tournament hosted by Belfast South.
  Players may play up to  a maximum of 20  but a minimum  of 10 games i
 s required to qualify for a prize.
LOCATION:The Bankers Club 29- 31 Malone Road Belfast
CONTACT:Neil Green\, 07977216868\, neildonard@yahoo.co.uk
CLASS:PUBLIC
END:VEVENT
END:VCALENDAR
