BEGIN:VCALENDAR
PRODID:-//AT Content Types//AT Event//EN
VERSION:2.0
METHOD:PUBLISH
BEGIN:VEVENT
DTSTAMP:20260419T222015Z
CREATED:20140115T223202Z
UID:ATEvent-c6478babe3c94609a632b419e5d091fd
LAST-MODIFIED:20140116T160135Z
SUMMARY:Williamson 2014 - Civil Service Social Club
DTSTART:20140222T093000Z
DTEND:20140223T210000Z
DESCRIPTION:In its 102nd year. The Williamson Shield - one of the best
  competitions of the year. Format: 6 rounds. 3 rounds per day. Maynard
  Sinclair Pavilion\, Stormont.
LOCATION:Maynard Sinclair Pavilion\, Stormont.
CONTACT:Damien Cunningham\, 07803361034 \, damien_cunningham@hotmail.com
CLASS:PUBLIC
END:VEVENT
END:VCALENDAR
