BEGIN:VCALENDAR
PRODID:-//AT Content Types//AT Event//EN
VERSION:1.0
BEGIN:VEVENT
DTSTART:20140625T183000Z
DTEND:20140625T214500Z
DCREATED:20140615T220832Z
UID:ATEvent-def36a11fef64cfbbcb22b34703df443
SEQUENCE:0
LAST-MODIFIED:20140616T162345Z
SUMMARY:The Eglantine Summer Tournament: Week 6
DESCRIPTION:The UCU Eglantine Summer Tournament is open to all chess p
 layers and provides regular competitive chess during the summer months
  when many chess clubs are closed.
LOCATION:Belfast Bankers Club\, 31 Malone Road\, Belfast BT9 6RU
PRIORITY:3
TRANSP:0
END:VEVENT
END:VCALENDAR
