BEGIN:VCALENDAR
PRODID:-//AT Content Types//AT Event//EN
VERSION:2.0
METHOD:PUBLISH
BEGIN:VEVENT
DTSTAMP:20260423T175123Z
CREATED:20140912T195609Z
UID:ATEvent-9053329f61a04872838623d06d946703
LAST-MODIFIED:20140912T201615Z
SUMMARY:The Eglantine Summer Tournament: Week 18 final round
DTSTART:20140917T173000Z
DTEND:20140917T204500Z
DESCRIPTION:Final round. The UCU Eglantine Summer Tournament is open t
 o all chess players and provides regular competitive chess during the 
 summer months when many chess clubs are closed. Please note the last 3
  weeks rules come into play - see below.
LOCATION:Belfast Bankers Club\, 31 Malone Road\, Belfast BT9 6RU
CONTACT:Mark Newman\, 07872544868\, mark.chris.newman@googlemail.com
CLASS:PUBLIC
END:VEVENT
END:VCALENDAR
