BEGIN:VCALENDAR
PRODID:-//AT Content Types//AT Event//EN
VERSION:1.0
BEGIN:VEVENT
DTSTART:20140903T173000Z
DTEND:20140903T204500Z
DCREATED:20140829T120217Z
UID:ATEvent-6e838107c9f54a5aa9fcbb99abe24334
SEQUENCE:0
LAST-MODIFIED:20140829T120237Z
SUMMARY:The Eglantine Summer Tournament: Week 16
DESCRIPTION:Only 3 Rounds to go. The UCU Eglantine Summer Tournament i
 s open to all chess players and provides regular competitive chess dur
 ing the summer months when many chess clubs are closed. \nPlease note 
 the last 3 weeks rules come into play - see below.
LOCATION:Belfast Bankers Club\, 31 Malone Road\, Belfast BT9 6RU
PRIORITY:3
TRANSP:0
END:VEVENT
END:VCALENDAR
