BEGIN:VCALENDAR
PRODID:-//AT Content Types//AT Event//EN
VERSION:1.0
BEGIN:VEVENT
DTSTART:20140820T173000Z
DTEND:20140820T204500Z
DCREATED:20140818T172152Z
UID:ATEvent-4432cbdced6d44f2b3e9fa7764a435f6
SEQUENCE:0
LAST-MODIFIED:20140819T233029Z
SUMMARY:The Eglantine Summer Tournament: Week 14
DESCRIPTION:The UCU Eglantine Summer Tournament is open to all chess p
 layers and provides regular competitive chess during the summer months
  when many chess clubs are closed.
LOCATION:Belfast Bankers Club\, 31 Malone Road\, Belfast BT9 6RU
PRIORITY:3
TRANSP:0
END:VEVENT
END:VCALENDAR
