BEGIN:VCALENDAR
PRODID:-//AT Content Types//AT Event//EN
VERSION:1.0
BEGIN:VEVENT
DTSTART:20140730T183000Z
DTEND:20140730T214500Z
DCREATED:20140728T113900Z
UID:ATEvent-d292e3ca6583442b876ff86c5aeb193f
SEQUENCE:0
LAST-MODIFIED:20140728T114148Z
SUMMARY:The Eglantine Summer Tournament: Week 11
DESCRIPTION:The UCU Eglantine Summer Tournament is open to all chess p
 layers and provides regular competitive chess during the summer months
  when many chess clubs are closed.
LOCATION:Belfast Bankers Club\, 31 Malone Road\, Belfast BT9 6RU
PRIORITY:3
TRANSP:0
END:VEVENT
END:VCALENDAR
