BEGIN:VCALENDAR
PRODID:-//AT Content Types//AT Event//EN
VERSION:2.0
METHOD:PUBLISH
BEGIN:VEVENT
DTSTAMP:20260419T213456Z
CREATED:20140407T201743Z
UID:ATEvent-f004e1f66aa146e3a8a3b21d32711283
LAST-MODIFIED:20140408T172617Z
SUMMARY:Gawain Jones GM Simultaneous
DTSTART:20140514T174500Z
DTEND:20140514T213000Z
DESCRIPTION:The UCU has secured the services of top English GM Gawain 
 Jones for a thirty board simultaneous display on Wednesday 14th May.
LOCATION:RBAI Common Hall\, College Square East\, Belfast BT1 6DL
CONTACT:Damien Cunningham\, 07803361034
CLASS:PUBLIC
END:VEVENT
END:VCALENDAR
