BEGIN:VCALENDAR
PRODID:-//AT Content Types//AT Event//EN
VERSION:2.0
METHOD:PUBLISH
BEGIN:VEVENT
DTSTAMP:20260419T161019Z
CREATED:20131124T215050Z
UID:ATEvent-d398bbe0942e47cfbc1bca479101f03b
LAST-MODIFIED:20131125T111148Z
SUMMARY:Childrens Chess Feb 2014
DTSTART:20140215T123000Z
DTEND:20140215T170000Z
DESCRIPTION:We invite all young chess players to enjoy an afternoon of
  fun chess\, puzzle solving and informal coaching.
LOCATION:Methodist College\, Belfast
CONTACT:Mark Newman\, 07872544868\, mark.chris.newman@googlemail.com
CLASS:PUBLIC
END:VEVENT
END:VCALENDAR
