BEGIN:VCALENDAR
PRODID:-//AT Content Types//AT Event//EN
VERSION:1.0
BEGIN:VEVENT
DTSTART:20131102T123000Z
DTEND:20131102T170000Z
DCREATED:20131014T214203Z
UID:ATEvent-9bf4de9edcbc475e98e04b03370d5a35
SEQUENCE:0
LAST-MODIFIED:20131015T071302Z
SUMMARY:Childrens Chess : November 2nd
DESCRIPTION:The First Childrens Chess event of 2013/2014 season.\nHave
  fun playing in a chess tournament \, with a chess puzzle competition 
 and informal coaching all young chess players welcome - register on da
 y.
LOCATION:Methodist College
PRIORITY:3
TRANSP:0
END:VEVENT
END:VCALENDAR
