BEGIN:VCALENDAR
PRODID:-//AT Content Types//AT Event//EN
VERSION:2.0
METHOD:PUBLISH
BEGIN:VEVENT
DTSTAMP:20260420T200310Z
CREATED:20140822T122343Z
UID:ATEvent-ce70dc33b9ac4c549672ef0b2f656e4c
LAST-MODIFIED:20140822T122718Z
SUMMARY:Belfast Culture Night. Cafe Chess Playing at Caffe Nero\, 19 Lombard St.
DTSTART:20140919T140000Z
DTEND:20140919T200000Z
DESCRIPTION:Enjoy meeting potential new chess players. Play chess and 
 enjoy the cafe experience. Share your enthusiasm for the game. At Caff
 e Nero\, 19 Lombard St.
LOCATION:Caffe Nero\, 19 Lombard St
CONTACT:Mark Newman\, mark.chris.newman@googlemail.com
CLASS:PUBLIC
END:VEVENT
END:VCALENDAR
