BEGIN:VCALENDAR
PRODID:-//AT Content Types//AT Event//EN
VERSION:1.0
BEGIN:VEVENT
DTSTART:20130511T083000Z
DTEND:20130511T162000Z
DCREATED:20121104T231833Z
UID:ATEvent-8bed3613a4c24e3da2ffa9f78f37f55a
SEQUENCE:0
LAST-MODIFIED:20130414T143456Z
SUMMARY:Mega-final : THE DELANCEY UK SCHOOLS’ CHESS CHALLENGE 2013
DESCRIPTION:Mega-final : THE DELANCEY UK SCHOOLS’ CHESS CHALLENGE 20
 13\nMay 11th 9:30 Registration Methodist School\, Belfast
LOCATION:Methodist College
PRIORITY:3
TRANSP:0
END:VEVENT
END:VCALENDAR
