BEGIN:VCALENDAR
PRODID:-//AT Content Types//AT Event//EN
VERSION:2.0
METHOD:PUBLISH
BEGIN:VEVENT
DTSTAMP:20260420T092803Z
CREATED:20121104T231833Z
UID:ATEvent-bf533a69e0694133ad4f9ecc7819a49c
LAST-MODIFIED:20121119T192440Z
SUMMARY:Childrens Chess Competition: Saturday February 16th
DTSTART:20130216T123000Z
DTEND:20130216T170000Z
DESCRIPTION:A half day of chess fun. Play chess. Solve Problems. Grand
 -prix system runs over all these monthly tournaments - win opportunity
  to play chess at Stormont.
LOCATION:Methodist College
CONTACT:Mark Newman\, 07872544868\, mark.chris.newman@googlemail.com
CLASS:PUBLIC
END:VEVENT
END:VCALENDAR
