BEGIN:VCALENDAR
PRODID:-//AT Content Types//AT Event//EN
VERSION:1.0
BEGIN:VEVENT
DTSTART:20120609T090000Z
DTEND:20120610T200000Z
DCREATED:20120527T151334Z
UID:ATEvent-b2740ee443b845b4998e355b1057ae89
SEQUENCE:0
LAST-MODIFIED:20120527T151752Z
SUMMARY:City of Belfast Championships
DESCRIPTION:6 round Swiss tournament played in two sections.
LOCATION:Belfast Boat Club\, 12 Lockview Road\, Belfast 9
PRIORITY:3
TRANSP:0
END:VEVENT
END:VCALENDAR
