BEGIN:VCALENDAR
PRODID:-//AT Content Types//AT Event//EN
VERSION:1.0
BEGIN:VEVENT
DTSTART:20251023T193000Z
DTEND:20251023T223000Z
DCREATED:20251006T200536Z
UID:ATEvent-e4c460b021fe44b49c084453304e269f
SEQUENCE:0
LAST-MODIFIED:20251006T200610Z
SUMMARY:FIDE RATED Bangor Chess Club 60th Anniversary Classic Round 2
LOCATION:City of Bangor International Chess Club\, Church of Ireland Parish Hall\, 30 Main Street\, Groomsport\, County Down\, Northern Ireland\, BT19 6JR
PRIORITY:3
TRANSP:0
END:VEVENT
END:VCALENDAR
